BEGIN:VCALENDAR
VERSION:2.0
PRODID:-//UFR des sciences – Université de Caen Normandie - ECPv6.15.18//NONSGML v1.0//EN
CALSCALE:GREGORIAN
METHOD:PUBLISH
X-WR-CALNAME:UFR des sciences – Université de Caen Normandie
X-ORIGINAL-URL:https://ufr-sciences.unicaen.fr
X-WR-CALDESC:Évènements pour UFR des sciences – Université de Caen Normandie
REFRESH-INTERVAL;VALUE=DURATION:PT1H
X-Robots-Tag:noindex
X-PUBLISHED-TTL:PT1H
BEGIN:VTIMEZONE
TZID:Europe/Paris
BEGIN:DAYLIGHT
TZOFFSETFROM:+0100
TZOFFSETTO:+0200
TZNAME:CEST
DTSTART:20250330T010000
END:DAYLIGHT
BEGIN:STANDARD
TZOFFSETFROM:+0200
TZOFFSETTO:+0100
TZNAME:CET
DTSTART:20251026T010000
END:STANDARD
BEGIN:DAYLIGHT
TZOFFSETFROM:+0100
TZOFFSETTO:+0200
TZNAME:CEST
DTSTART:20260329T010000
END:DAYLIGHT
BEGIN:STANDARD
TZOFFSETFROM:+0200
TZOFFSETTO:+0100
TZNAME:CET
DTSTART:20261025T010000
END:STANDARD
BEGIN:DAYLIGHT
TZOFFSETFROM:+0100
TZOFFSETTO:+0200
TZNAME:CEST
DTSTART:20270328T010000
END:DAYLIGHT
BEGIN:STANDARD
TZOFFSETFROM:+0200
TZOFFSETTO:+0100
TZNAME:CET
DTSTART:20271031T010000
END:STANDARD
END:VTIMEZONE
BEGIN:VEVENT
DTSTART;TZID=Europe/Paris:20260402T180000
DTEND;TZID=Europe/Paris:20260402T190000
DTSTAMP:20260425T201828
CREATED:20260319T104501Z
LAST-MODIFIED:20260319T104502Z
UID:90089-1775152800-1775156400@ufr-sciences.unicaen.fr
SUMMARY:Atelier préparation aux examens
DESCRIPTION:Les examens du second semestre approchent ! Le pôle accompagnement aux réussites étudiantes vous apporte conseils et astuces au cours d’un atelier de préparation aux examens jeudi 2 avril de 18h à 19h au campus 1. \n\n\n\nAu programme :\n\n\n\n\nTechniques de révisions ;\n\n\n\nTechniques de gestion du temps ;\n\n\n\nConseils pour rester motivé.\n\n\n\n\nPour vous inscrire :\n\n\n\nConnectez-vous sur Objectif Réussites\, menu « Réussir à l’université ». \n\n\n\n\nAtelier uniquement réservé aux étudiantes et étudiants de licence. \n\n\n\n\n\nPôle accompagnement aux réussites étudiantes : deve.reussites.etudiantes@unicaen.fr \n\n\n\n\n\nJe m’inscris
URL:https://ufr-sciences.unicaen.fr/evenement/atelier-preparation-aux-examens/
LOCATION:Salle B1 351 · 3e étage · Bâtiment B · Campus 1\, Université de Caen Normandie\, Caen\, France
CATEGORIES:Atelier
ATTACH;FMTTYPE=image/jpeg:https://ufr-sciences.unicaen.fr/wp-content/uploads/sites/46/2026/03/Gabarit-taille-visuel-site-internet-6.jpg
END:VEVENT
END:VCALENDAR